BEGIN:VCALENDAR
VERSION:2.0
PRODID:-//SaraThorn.com.au - ECPv5.2.1//NONSGML v1.0//EN
CALSCALE:GREGORIAN
METHOD:PUBLISH
X-WR-CALNAME:SaraThorn.com.au
X-ORIGINAL-URL:https://sarathorn.com.au
X-WR-CALDESC:Events for SaraThorn.com.au
BEGIN:VTIMEZONE
TZID:Australia/Brisbane
BEGIN:STANDARD
TZOFFSETFROM:+1000
TZOFFSETTO:+1000
TZNAME:AEST
DTSTART:20210101T000000
END:STANDARD
END:VTIMEZONE
BEGIN:VEVENT
DTSTART;TZID=Australia/Brisbane:20210226T190000
DTEND;TZID=Australia/Brisbane:20210226T210000
DTSTAMP:20210227T113741
CREATED:20210208T081600Z
LAST-MODIFIED:20210208T082126Z
UID:3743-1614366000-1614373200@sarathorn.com.au
SUMMARY:Life Drawing Art Salon
DESCRIPTION:Art Salon is a art ambiance to draw\, socialise and enjoy a night out to meet new friends and express your creativity.\n\nHeld monthly by artist\, designer Sara Thorn in her boutique studio space in Maleny.\n\nThe night will feature a model to draw from\, music to draw to and is BYO\, with teas served.\n\nThere will be 5\,10\, 20 minute poses or as preferred by the group\n\nAll levels welcome. Drawing assistance is available if required.\n\n\n\nThis class is self led\, bring your own preferred art equipment or for an extra $5.00 paper and art materials will be supplied\n\n$15 per person includes teas\n\n$20 per person includes art equipment and teas\n\nYou can pay at door\, but bookings essential\, Limited spots\n\nHeld at Myrtle St Studio in Maleny town center. parking in the street available
URL:https://sarathorn.com.au/event/art-salon-life-drawing-2-2/
LOCATION:Myrtle st Studio\, 2 Myrtle St\, Maleny\, QLD\, 4552\, Australia
CATEGORIES:Art classes,Art Salon,Myrtle St Studio
ATTACH;FMTTYPE=image/jpeg:https://sarathorn.com.au/wp-content/uploads/2020/10/art-salon-10.jpg
END:VEVENT
END:VCALENDAR